BEGIN:VCALENDAR
VERSION:2.0
PRODID:-//Merit School of Music - ECPv6.15.18//NONSGML v1.0//EN
CALSCALE:GREGORIAN
METHOD:PUBLISH
X-WR-CALNAME:Merit School of Music
X-ORIGINAL-URL:https://meritmusic.org
X-WR-CALDESC:Events for Merit School of Music
REFRESH-INTERVAL;VALUE=DURATION:PT1H
X-Robots-Tag:noindex
X-PUBLISHED-TTL:PT1H
BEGIN:VTIMEZONE
TZID:America/Chicago
BEGIN:DAYLIGHT
TZOFFSETFROM:-0600
TZOFFSETTO:-0500
TZNAME:CDT
DTSTART:20240310T080000
END:DAYLIGHT
BEGIN:STANDARD
TZOFFSETFROM:-0500
TZOFFSETTO:-0600
TZNAME:CST
DTSTART:20241103T070000
END:STANDARD
BEGIN:DAYLIGHT
TZOFFSETFROM:-0600
TZOFFSETTO:-0500
TZNAME:CDT
DTSTART:20250309T080000
END:DAYLIGHT
BEGIN:STANDARD
TZOFFSETFROM:-0500
TZOFFSETTO:-0600
TZNAME:CST
DTSTART:20251102T070000
END:STANDARD
BEGIN:DAYLIGHT
TZOFFSETFROM:-0600
TZOFFSETTO:-0500
TZNAME:CDT
DTSTART:20260308T080000
END:DAYLIGHT
BEGIN:STANDARD
TZOFFSETFROM:-0500
TZOFFSETTO:-0600
TZNAME:CST
DTSTART:20261101T070000
END:STANDARD
END:VTIMEZONE
BEGIN:VEVENT
DTSTART;VALUE=DATE:20250510
DTEND;VALUE=DATE:20250511
DTSTAMP:20260419T181028
CREATED:20240930T153455Z
LAST-MODIFIED:20240930T153455Z
UID:10001538-1746835200-1746921599@meritmusic.org
SUMMARY:2025-2026 Conservatory Auditions
DESCRIPTION:
URL:https://meritmusic.org/event/2025-2026-conservatory-auditions/2025-05-10/
LOCATION:Merit School of Music\, 38 S Peoria St.\, Chicago\, IL\, 60607\, United States
CATEGORIES:Conservatory
ATTACH;FMTTYPE=image/png:https://meritmusic.org/wp-content/uploads/2023/08/conservatory-philharmonic.png
END:VEVENT
BEGIN:VEVENT
DTSTART;VALUE=DATE:20250508
DTEND;VALUE=DATE:20250511
DTSTAMP:20260419T181028
CREATED:20240930T155939Z
LAST-MODIFIED:20240930T155939Z
UID:10001542-1746662400-1746921540@meritmusic.org
SUMMARY:Group Class Concerts & Parent-Teacher Conferences
DESCRIPTION:Group class concerts are held during each group’s specific class time in their classroom unless otherwise specified.
URL:https://meritmusic.org/event/group-class-concerts-parent-teacher-conferences-5/2025-05-08/
LOCATION:Merit School of Music\, 38 S Peoria St.\, Chicago\, IL\, 60607\, United States
CATEGORIES:Concerts & Special Events,Group Classes
ATTACH;FMTTYPE=image/png:https://meritmusic.org/wp-content/uploads/2023/08/group-class.png
END:VEVENT
BEGIN:VEVENT
DTSTART;VALUE=DATE:20250505
DTEND;VALUE=DATE:20250506
DTSTAMP:20260419T181028
CREATED:20240930T155939Z
LAST-MODIFIED:20240930T155939Z
UID:10001541-1746403200-1746489540@meritmusic.org
SUMMARY:Group Class Concerts & Parent-Teacher Conferences
DESCRIPTION:Group class concerts are held during each group’s specific class time in their classroom unless otherwise specified.
URL:https://meritmusic.org/event/group-class-concerts-parent-teacher-conferences-5/2025-05-05/
LOCATION:Merit School of Music\, 38 S Peoria St.\, Chicago\, IL\, 60607\, United States
CATEGORIES:Concerts & Special Events,Group Classes
ATTACH;FMTTYPE=image/png:https://meritmusic.org/wp-content/uploads/2023/08/group-class.png
END:VEVENT
BEGIN:VEVENT
DTSTART;VALUE=DATE:20250503
DTEND;VALUE=DATE:20250504
DTSTAMP:20260419T181028
CREATED:20240930T153455Z
LAST-MODIFIED:20240930T153455Z
UID:10001537-1746230400-1746316799@meritmusic.org
SUMMARY:2025-2026 Conservatory Auditions
DESCRIPTION:
URL:https://meritmusic.org/event/2025-2026-conservatory-auditions/2025-05-03/
LOCATION:Merit School of Music\, 38 S Peoria St.\, Chicago\, IL\, 60607\, United States
CATEGORIES:Conservatory
ATTACH;FMTTYPE=image/png:https://meritmusic.org/wp-content/uploads/2023/08/conservatory-philharmonic.png
END:VEVENT
BEGIN:VEVENT
DTSTART;VALUE=DATE:20250429
DTEND;VALUE=DATE:20250501
DTSTAMP:20260419T181028
CREATED:20240930T155939Z
LAST-MODIFIED:20240930T155939Z
UID:10001540-1745884800-1746057599@meritmusic.org
SUMMARY:Group Class Concerts & Parent-Teacher Conferences
DESCRIPTION:Group class concerts are held during each group’s specific class time in their classroom unless otherwise specified.
URL:https://meritmusic.org/event/group-class-concerts-parent-teacher-conferences-5/2025-04-29/
LOCATION:Merit School of Music\, 38 S Peoria St.\, Chicago\, IL\, 60607\, United States
CATEGORIES:Concerts & Special Events,Group Classes
ATTACH;FMTTYPE=image/png:https://meritmusic.org/wp-content/uploads/2023/08/group-class.png
END:VEVENT
BEGIN:VEVENT
DTSTART;VALUE=DATE:20250426
DTEND;VALUE=DATE:20250427
DTSTAMP:20260419T181028
CREATED:20240930T153455Z
LAST-MODIFIED:20240930T153455Z
UID:10001536-1745625600-1745711999@meritmusic.org
SUMMARY:2025-2026 Conservatory Auditions
DESCRIPTION:
URL:https://meritmusic.org/event/2025-2026-conservatory-auditions/2025-04-26/
LOCATION:Merit School of Music\, 38 S Peoria St.\, Chicago\, IL\, 60607\, United States
CATEGORIES:Conservatory
ATTACH;FMTTYPE=image/png:https://meritmusic.org/wp-content/uploads/2023/08/conservatory-philharmonic.png
END:VEVENT
BEGIN:VEVENT
DTSTART;TZID=America/Chicago:20250425T180000
DTEND;TZID=America/Chicago:20250425T210000
DTSTAMP:20260419T181028
CREATED:20240930T155024Z
LAST-MODIFIED:20240930T155024Z
UID:10001539-1745604000-1745614800@meritmusic.org
SUMMARY:Gala 2025
DESCRIPTION:We hope you join us at Gala 2025 as we gather together as a Merit community\, experience amazing student performances\, and honor our special guest\, Emanuel Ax\, for his contributions to the arts. \nSave the date and stay tuned for more information!
URL:https://meritmusic.org/event/gala-2025/
LOCATION:Four Seasons Hotel\, 120 East Delaware Place\, Chicago\, 60611
CATEGORIES:Concerts & Special Events
ATTACH;FMTTYPE=image/png:https://meritmusic.org/wp-content/uploads/2023/04/Gala-2023.png
END:VEVENT
BEGIN:VEVENT
DTSTART;TZID=America/Chicago:20250406T110000
DTEND;TZID=America/Chicago:20250406T120000
DTSTAMP:20260419T181028
CREATED:20240930T153101Z
LAST-MODIFIED:20240930T153101Z
UID:10001534-1743937200-1743940800@meritmusic.org
SUMMARY:Conservatory Graduation
DESCRIPTION:Join us as we celebrate the Alice S. Pfaelzer Conservatory graduating class of 2024.
URL:https://meritmusic.org/event/conservatory-graduation-2025/
LOCATION:Merit School of Music\, 38 S Peoria St.\, Chicago\, IL\, 60607\, United States
CATEGORIES:Concerts & Special Events,Conservatory
ATTACH;FMTTYPE=image/png:https://meritmusic.org/wp-content/uploads/2023/08/graduation.png
END:VEVENT
BEGIN:VEVENT
DTSTART;VALUE=DATE:20250404
DTEND;VALUE=DATE:20250406
DTSTAMP:20260419T181028
CREATED:20240930T152919Z
LAST-MODIFIED:20240930T152919Z
UID:10001533-1743724800-1743897599@meritmusic.org
SUMMARY:Conservatory Spring Concerts
DESCRIPTION:Join us for our Spring Concerts featuring the students of the Alice S. Pfaelzer Conservatory on Friday and Saturday\, 4/4-4/5.
URL:https://meritmusic.org/event/conservatory-spring-concerts-2025/
LOCATION:Merit School of Music\, 38 S Peoria St.\, Chicago\, IL\, 60607\, United States
CATEGORIES:Concerts & Special Events,Conservatory
ATTACH;FMTTYPE=image/png:https://meritmusic.org/wp-content/uploads/2023/08/winter-concerts.png
END:VEVENT
BEGIN:VEVENT
DTSTART;VALUE=DATE:20250403
DTEND;VALUE=DATE:20250404
DTSTAMP:20260419T181028
CREATED:20240930T152518Z
LAST-MODIFIED:20240930T152519Z
UID:10001532-1743638400-1743724799@meritmusic.org
SUMMARY:Merit Philharmonic & Choir Dress Rehearsal
DESCRIPTION:
URL:https://meritmusic.org/event/merit-philharmonic-choir-dress-rehearsal-2025/
LOCATION:Merit School of Music\, 38 S Peoria St.\, Chicago\, IL\, 60607\, United States
CATEGORIES:Conservatory
ATTACH;FMTTYPE=image/png:https://meritmusic.org/wp-content/uploads/2023/08/merit-philharmonic.png
END:VEVENT
BEGIN:VEVENT
DTSTART;VALUE=DATE:20250402
DTEND;VALUE=DATE:20250403
DTSTAMP:20260419T181028
CREATED:20240930T152050Z
LAST-MODIFIED:20240930T152625Z
UID:10001530-1743552000-1743638399@meritmusic.org
SUMMARY:Symphonic Band Dress Rehearsal
DESCRIPTION:
URL:https://meritmusic.org/event/symphonic-band-dress-rehearsal-2025/
LOCATION:Merit School of Music\, 38 S Peoria St.\, Chicago\, IL\, 60607\, United States
CATEGORIES:Conservatory
ATTACH;FMTTYPE=image/png:https://meritmusic.org/wp-content/uploads/2023/08/symphonic-band.png
END:VEVENT
BEGIN:VEVENT
DTSTART;VALUE=DATE:20250401
DTEND;VALUE=DATE:20250402
DTSTAMP:20260419T181028
CREATED:20240930T152313Z
LAST-MODIFIED:20240930T152705Z
UID:10001531-1743465600-1743551999@meritmusic.org
SUMMARY:Wind Symphony Dress Rehearsal
DESCRIPTION:
URL:https://meritmusic.org/event/wind-symphony-dress-rehearsal-2025/
LOCATION:Merit School of Music\, 38 S Peoria St.\, Chicago\, IL\, 60607\, United States
CATEGORIES:Conservatory
ATTACH;FMTTYPE=image/png:https://meritmusic.org/wp-content/uploads/2023/08/wind-symphony.png
END:VEVENT
BEGIN:VEVENT
DTSTART;VALUE=DATE:20250324
DTEND;VALUE=DATE:20250331
DTSTAMP:20260419T181028
CREATED:20240927T214842Z
LAST-MODIFIED:20240927T214842Z
UID:10001529-1742774400-1743379199@meritmusic.org
SUMMARY:Spring Break - No Classes
DESCRIPTION:There will be no classes 3/24-3/30. The building will be open for make-up private lessons.
URL:https://meritmusic.org/event/spring-break-2/
LOCATION:IL
CATEGORIES:Conservatory,Early Childhood,Group Classes,Private Lessons
ATTACH;FMTTYPE=image/png:https://meritmusic.org/wp-content/uploads/2023/08/no-classes.png
END:VEVENT
BEGIN:VEVENT
DTSTART;VALUE=DATE:20250320
DTEND;VALUE=DATE:20250321
DTSTAMP:20260419T181028
CREATED:20241008T162851Z
LAST-MODIFIED:20241008T162851Z
UID:10001554-1742428800-1742515199@meritmusic.org
SUMMARY:Conservatory Spring String Chamber Concert
DESCRIPTION:
URL:https://meritmusic.org/event/spring-string-chamber-concert/
LOCATION:Merit School of Music\, 38 S Peoria St.\, Chicago\, IL\, 60607\, United States
CATEGORIES:Concerts & Special Events,Conservatory
ATTACH;FMTTYPE=image/jpeg:https://meritmusic.org/wp-content/uploads/2024/10/chamber-ensemble-concert.jpg
END:VEVENT
BEGIN:VEVENT
DTSTART;VALUE=DATE:20250316
DTEND;VALUE=DATE:20250317
DTSTAMP:20260419T181028
CREATED:20240927T214321Z
LAST-MODIFIED:20240927T214321Z
UID:10001527-1742083200-1742169599@meritmusic.org
SUMMARY:Barnett Chamber Music Competition
DESCRIPTION:The thirteenth annual A.N. and Pearl G. Barnett Chamber Music Competition will be held on Sunday\, March 16\, 2025\, in Anne & Howard Gottlieb Hall at Merit School of Music in Chicago. \nThe competition is open to musicians aged 18 and under with two divisions: \n\nStrings and Piano\nWinds\, Brass\, and Percussion\n\nContestants will be competing for $11\,000 in cash prizes. There are prizes for winners in each of the two divisions\, as well as an award for the overall winner. There is also a special award for the top finishing group from Merit School of Music. \nThe Barnett Chamber Music Competition is free and open to the public. 
URL:https://meritmusic.org/event/barnett-chamber-music-competition-2025/
LOCATION:Merit School of Music\, 38 S Peoria St.\, Chicago\, IL\, 60607\, United States
CATEGORIES:Concerts & Special Events,Conservatory
ATTACH;FMTTYPE=image/png:https://meritmusic.org/wp-content/uploads/2023/08/cello.png
END:VEVENT
BEGIN:VEVENT
DTSTART;VALUE=DATE:20250315
DTEND;VALUE=DATE:20250316
DTSTAMP:20260419T181028
CREATED:20250210T163206Z
LAST-MODIFIED:20250210T163206Z
UID:10001571-1741996800-1742083199@meritmusic.org
SUMMARY:Summer 2025 Registration Opens to the Public
DESCRIPTION:Registration for summer camps and classes opens to the public on Saturday\, March 15. Reserve your spot!
URL:https://meritmusic.org/event/summer-2025-registration-opens-to-the-public/
LOCATION:Merit School of Music\, 38 S Peoria St.\, Chicago\, IL\, 60607\, United States
CATEGORIES:Early Childhood,Group Classes,Key Dates,Summer Camps
ATTACH;FMTTYPE=image/png:https://meritmusic.org/wp-content/uploads/2023/05/Website-Featured-Images-1200-x-9007.png
END:VEVENT
BEGIN:VEVENT
DTSTART;VALUE=DATE:20250303
DTEND;VALUE=DATE:20250304
DTSTAMP:20260419T181028
CREATED:20250210T162742Z
LAST-MODIFIED:20250210T162742Z
UID:10001570-1740960000-1741046399@meritmusic.org
SUMMARY:Summer 2025 Registration Opens for Current Families
DESCRIPTION:Registration for summer camps and classes opens for current families on Monday\, March 3. Reserve your spot!
URL:https://meritmusic.org/event/summer-2025-registration-opens-for-current-families/
LOCATION:Merit School of Music\, 38 S Peoria St.\, Chicago\, IL\, 60607\, United States
CATEGORIES:Early Childhood,Group Classes,Key Dates,Summer Camps
ATTACH;FMTTYPE=image/jpeg:https://meritmusic.org/wp-content/uploads/2024/02/music-summer-camps-featured.jpg
END:VEVENT
BEGIN:VEVENT
DTSTART;TZID=America/Chicago:20250301T100000
DTEND;TZID=America/Chicago:20250301T110000
DTSTAMP:20260419T181028
CREATED:20250207T192234Z
LAST-MODIFIED:20250207T192234Z
UID:10001569-1740823200-1740826800@meritmusic.org
SUMMARY:Tango with Jedis: A Sensory- & Family-friendly Concert
DESCRIPTION:Come enjoy a FREE sensory- and family-friendly concert with Merit’s Wind Symphony! Audience members are invited to move\, dance\, make noise\, or partake in any way that helps them to enjoy the music. Families and those with sensory processing sensitivities welcome. \nJoin us at Merit for this FREE concert:\n\nHear familiar favorites from Merit’s Wind Symphony 🎷\nChildren and adults of all ages and abilities welcome 😊\nExperience a sensory-friendly style concert where the audience is encouraged to move around\, make noise\, take breaks\, clap along\, and more 👏\nCelebrate neurodiversity at a performance that is made for everybody to enjoy ✨\nAwesome opportunity for any child’s FIRST concert 🎵\n\nConcert repertoire includes:\n\n“High School Cadets”\, John Philip Sousa\n“The Force Awakens”\, John Williams\n“A Little Tango Music”\, Adam Gorb\n“Old Sore Head”\, Julius Fučík\n“Snake Charmer”\, Randall Standridge\n\nGet your free tickets today!
URL:https://meritmusic.org/event/tango-with-jedis-sensory-family-friendly-concert/
LOCATION:Merit School of Music\, 38 S Peoria St.\, Chicago\, IL\, 60607\, United States
CATEGORIES:Concerts & Special Events,Conservatory,Early Childhood
ATTACH;FMTTYPE=image/jpeg:https://meritmusic.org/wp-content/uploads/2025/02/tango-with-jedis-featured-image.jpg
END:VEVENT
BEGIN:VEVENT
DTSTART;VALUE=DATE:20250301
DTEND;VALUE=DATE:20250302
DTSTAMP:20260419T181028
CREATED:20240930T153248Z
LAST-MODIFIED:20240930T153248Z
UID:10001535-1740787200-1740873599@meritmusic.org
SUMMARY:2025-2026 Conservatory Audition Registration Opens
DESCRIPTION:
URL:https://meritmusic.org/event/2025-2026-conservatory-audition-registration-opens/
LOCATION:Merit School of Music\, 38 S Peoria St.\, Chicago\, IL\, 60607\, United States
CATEGORIES:Conservatory,Key Dates
ATTACH;FMTTYPE=image/png:https://meritmusic.org/wp-content/uploads/2023/08/conservatory-auditions.png
END:VEVENT
BEGIN:VEVENT
DTSTART;TZID=America/Chicago:20250217T090000
DTEND;TZID=America/Chicago:20250217T170000
DTSTAMP:20260419T181028
CREATED:20240927T213932Z
LAST-MODIFIED:20240927T213932Z
UID:10001526-1739782800-1739811600@meritmusic.org
SUMMARY:Conservatory Solo Competition
DESCRIPTION:
URL:https://meritmusic.org/event/conservatory-solo-competition-2025/
LOCATION:Merit School of Music\, 38 S Peoria St.\, Chicago\, IL\, 60607\, United States
CATEGORIES:Conservatory
ATTACH;FMTTYPE=image/png:https://meritmusic.org/wp-content/uploads/2023/05/Website-Featured-Images-1200-x-900.png
END:VEVENT
BEGIN:VEVENT
DTSTART;VALUE=DATE:20250216
DTEND;VALUE=DATE:20250217
DTSTAMP:20260419T181028
CREATED:20250902T211745Z
LAST-MODIFIED:20250902T211745Z
UID:10001627-1739664000-1739750399@meritmusic.org
SUMMARY:Conservatory Solo Competition
DESCRIPTION:
URL:https://meritmusic.org/event/conservatory-solo-competition-2/
LOCATION:Merit School of Music\, 38 S Peoria St.\, Chicago\, IL\, 60607\, United States
CATEGORIES:Conservatory
ATTACH;FMTTYPE=image/png:https://meritmusic.org/wp-content/uploads/2023/05/Website-Featured-Images-1200-x-900.png
END:VEVENT
BEGIN:VEVENT
DTSTART;VALUE=DATE:20250128
DTEND;VALUE=DATE:20250129
DTSTAMP:20260419T181028
CREATED:20241008T162238Z
LAST-MODIFIED:20241008T162316Z
UID:10001553-1738022400-1738108799@meritmusic.org
SUMMARY:Second Semester Early Childhood Classes Begin
DESCRIPTION:
URL:https://meritmusic.org/event/second-semester-early-childhood-begins/
LOCATION:Merit School of Music\, 38 S Peoria St.\, Chicago\, IL\, 60607\, United States
CATEGORIES:Early Childhood,Key Dates
ATTACH;FMTTYPE=image/jpeg:https://meritmusic.org/wp-content/uploads/2024/03/discover-early-childhood.jpg
END:VEVENT
BEGIN:VEVENT
DTSTART;TZID=America/Chicago:20250125T123000
DTEND;TZID=America/Chicago:20250125T153000
DTSTAMP:20260419T181028
CREATED:20240904T142148Z
LAST-MODIFIED:20250110T155314Z
UID:10001500-1737808200-1737819000@meritmusic.org
SUMMARY:Conservatory Open House
DESCRIPTION:You’re invited to our Conservatory Open House! 🎶\n\nInterested in joining Merit’s Conservatory or just curious to know more?\nThe Alice S. Pfaelzer Conservatory is the culmination of Merit’s instructional continuum and represents the region’s most talented and driven student musicians. Our Conservatory Open House is a great opportunity for interested students to learn more\, ask questions\, and determine if Conservatory might be right for you. \nStop by our Open House to:\n\nTour Merit’s building\nGet info about upcoming auditions\nLearn more about Conservatory\nMeet other young musicians & families!\n\nThere will be two sessions based on instrument:\n\n12:30pm • Band\, Jazz\, Choir\, & Piano\n2:30pm • Strings & Guitar\n\n\nAbout Conservatory\nMerit School of Music’s Alice S. Pfaelzer Conservatory is one of the country’s most prestigious music programs for driven student musicians. Over 26 Saturdays during the academic school year\, Conservatory students study with Chicago’s finest music educators and participate in performance ensembles\, technique and music theory classes\, and a variety of engaging electives. Founded with the mission to remove barriers to high-quality music education\, Merit’s Conservatory is 100% tuition-free for all students.
URL:https://meritmusic.org/event/conservatory-open-house-2025/
LOCATION:Merit School of Music\, 38 S Peoria St.\, Chicago\, IL\, 60607\, United States
CATEGORIES:Concerts & Special Events,Conservatory
ATTACH;FMTTYPE=image/png:https://meritmusic.org/wp-content/uploads/2023/08/conservatory.png
END:VEVENT
BEGIN:VEVENT
DTSTART;VALUE=DATE:20250121
DTEND;VALUE=DATE:20250122
DTSTAMP:20260419T181028
CREATED:20240927T213103Z
LAST-MODIFIED:20240927T213158Z
UID:10001524-1737417600-1737503999@meritmusic.org
SUMMARY:Second Semester Group Classes Begin
DESCRIPTION:
URL:https://meritmusic.org/event/second-semester-group-classes-begin/
LOCATION:Merit School of Music\, 38 S Peoria St.\, Chicago\, IL\, 60607\, United States
CATEGORIES:Group Classes,Key Dates
ATTACH;FMTTYPE=image/png:https://meritmusic.org/wp-content/uploads/2023/08/group-class.png
END:VEVENT
BEGIN:VEVENT
DTSTART;TZID=America/Chicago:20250120T183000
DTEND;TZID=America/Chicago:20250120T203000
DTSTAMP:20260419T181028
CREATED:20241007T153721Z
LAST-MODIFIED:20241007T153959Z
UID:10001549-1737397800-1737405000@meritmusic.org
SUMMARY:Masterclass with Demarre McGill
DESCRIPTION:Chicago Musical Pathways Initiative and Merit School of Music are thrilled to partner in bringing you a once-in-a-lifetime opportunity to experience a masterclass with Merit alum and principal flute of the Seattle Symphony Demarre McGill. \nRSVP today!
URL:https://meritmusic.org/event/demarre-mcgill-masterclass/
LOCATION:Fine Arts Building\, 410 S. Michigan Ave.\, Chicago\, 60605\, United States
CATEGORIES:Concerts & Special Events,Conservatory
ATTACH;FMTTYPE=image/jpeg:https://meritmusic.org/wp-content/uploads/2024/10/demarre-mcgill.jpg
END:VEVENT
BEGIN:VEVENT
DTSTART;VALUE=DATE:20250120
DTEND;VALUE=DATE:20250121
DTSTAMP:20260419T181028
CREATED:20240927T212529Z
LAST-MODIFIED:20240930T161205Z
UID:10001523-1737331200-1737417599@meritmusic.org
SUMMARY:Building Closed - Martin Luther King Jr. Day
DESCRIPTION:The Joy Faith Knapp Music Center will be closed on Monday\, January 20 in honor of Martin Luther King Jr. Day. We will reopen on Tuesday\, January 21.
URL:https://meritmusic.org/event/building-closed-mlk-2025/
LOCATION:Merit School of Music\, 38 S Peoria St.\, Chicago\, IL\, 60607\, United States
CATEGORIES:Key Dates
ATTACH;FMTTYPE=image/png:https://meritmusic.org/wp-content/uploads/2023/04/Website-Featured-Images-1200-x-9004.png
END:VEVENT
BEGIN:VEVENT
DTSTART;VALUE=DATE:20250119
DTEND;VALUE=DATE:20250120
DTSTAMP:20260419T181028
CREATED:20240927T212336Z
LAST-MODIFIED:20240927T212336Z
UID:10001522-1737244800-1737331199@meritmusic.org
SUMMARY:Early Childhood First Semester Classes End
DESCRIPTION:
URL:https://meritmusic.org/event/early-childhood-first-semester-classes-end-2025/
LOCATION:Merit School of Music\, 38 S Peoria St.\, Chicago\, IL\, 60607\, United States
CATEGORIES:Early Childhood
ATTACH;FMTTYPE=image/png:https://meritmusic.org/wp-content/uploads/2023/08/early-childhood-1.png
END:VEVENT
BEGIN:VEVENT
DTSTART;TZID=America/Chicago:20250116T180000
DTEND;TZID=America/Chicago:20250116T193000
DTSTAMP:20260419T181028
CREATED:20250113T211414Z
LAST-MODIFIED:20250113T211414Z
UID:10001568-1737050400-1737055800@meritmusic.org
SUMMARY:Orchestra Group Class Concert
DESCRIPTION:
URL:https://meritmusic.org/event/orchestra-group-class-concert/
LOCATION:Merit School of Music\, 38 S Peoria St.\, Chicago\, IL\, 60607\, United States
CATEGORIES:Concerts & Special Events,Group Classes
END:VEVENT
BEGIN:VEVENT
DTSTART;TZID=America/Chicago:20250115T180000
DTEND;TZID=America/Chicago:20250115T193000
DTSTAMP:20260419T181028
CREATED:20250113T211235Z
LAST-MODIFIED:20250113T211235Z
UID:10001567-1736964000-1736969400@meritmusic.org
SUMMARY:Piano & Choir Group Class Concert
DESCRIPTION:
URL:https://meritmusic.org/event/piano-choir-group-class-concert/
LOCATION:Merit School of Music\, 38 S Peoria St.\, Chicago\, IL\, 60607\, United States
CATEGORIES:Concerts & Special Events,Group Classes
END:VEVENT
BEGIN:VEVENT
DTSTART;TZID=America/Chicago:20250113T180000
DTEND;TZID=America/Chicago:20250113T193000
DTSTAMP:20260419T181028
CREATED:20250113T210946Z
LAST-MODIFIED:20250113T210946Z
UID:10001566-1736791200-1736796600@meritmusic.org
SUMMARY:Guitar & Piano Group Class Concert
DESCRIPTION:
URL:https://meritmusic.org/event/guitar-piano-group-class-concert/
LOCATION:Merit School of Music\, 38 S Peoria St.\, Chicago\, IL\, 60607\, United States
CATEGORIES:Concerts & Special Events,Group Classes
END:VEVENT
END:VCALENDAR